BEGIN:VCALENDAR
CALSCALE:GREGORIAN
VERSION:2.0
METHOD:PUBLISH 
X-WR-CALNAME:
BEGIN:VEVENT
DTSTART;TZID=Europe/Paris:20260514T203000
DTEND;TZID=Europe/Paris:20260514T213000
SUMMARY:Spectacle :  Nettoyage à sec uniquement !
CATEGORIE:Spectacles et Théâtre
GEO:44.93831200000000;4.89052300000000
LOCATION:L'Appart café - Café Théâtre
Quai Thannaron\, 26500 Bourg-lès-Valence\, France
URL:https://www.fest.fr/e/2433606
UID:2433606-1@fest.fr
END:VEVENT
END:VCALENDAR
