BEGIN:VCALENDAR
CALSCALE:GREGORIAN
VERSION:2.0
METHOD:PUBLISH 
X-WR-CALNAME:
BEGIN:VEVENT
DTSTART;TZID=Europe/Paris:20260614T140000
DTEND;TZID=Europe/Paris:20260614T150000
SUMMARY:Bienvenue dans mon jardin au naturel
CATEGORIE:Expositions, Visites et Découvertes
GEO:48.68156835712870;5.32401323318481
LOCATION:Chemin de Herval
Jardins Culture en Herbe\, 55500 Ligny-en-Barrois\, France
URL:https://www.fest.fr/e/2433414
UID:2433414-1@fest.fr
END:VEVENT
END:VCALENDAR
