BEGIN:VCALENDAR
CALSCALE:GREGORIAN
VERSION:2.0
METHOD:PUBLISH 
X-WR-CALNAME:
BEGIN:VEVENT
DTSTART;TZID=Europe/Paris:20260523T103000
DTEND;TZID=Europe/Paris:20260523T113000
SUMMARY:Des livres pour mon bébé à la médiathèque du Sablon
CATEGORIE:Stages, Ateliers et Initiations
GEO:49.09921755398760;6.17372632026672
LOCATION:4-6 Rue des Robert
Médiathèque du Sablon - Centre socioculturel République\, 57000 Metz\, France
URL:https://www.fest.fr/e/2433411
UID:2433411-1@fest.fr
END:VEVENT
END:VCALENDAR
