BEGIN:VCALENDAR
CALSCALE:GREGORIAN
VERSION:2.0
METHOD:PUBLISH 
X-WR-CALNAME:
BEGIN:VEVENT
DTSTART;TZID=Europe/Paris:20261101T203000
DTEND;TZID=Europe/Paris:20261101T213000
SUMMARY:EYEHATEGOD + MEZCAL WIZARD
CATEGORIE:Concerts et musique
GEO:43.29277310000000;5.38318390000000
LOCATION:3 place Paul Cezanne\, 13006 Marseille 6e\, France
URL:https://www.fest.fr/e/2433326
UID:2433326-1@fest.fr
END:VEVENT
END:VCALENDAR
