BEGIN:VCALENDAR
CALSCALE:GREGORIAN
VERSION:2.0
METHOD:PUBLISH 
X-WR-CALNAME:
BEGIN:VEVENT
DTSTART;TZID=Europe/Paris:20260518T143000
DTEND;TZID=Europe/Paris:20260518T153000
SUMMARY:Atelier "Instant papote" - Temps d'échange entre parents
CATEGORIE:Stages, Ateliers et Initiations
GEO:50.72859700000000;2.54036700000000
LOCATION:Hazebrouck\, 1 rue de l'hopital  hazebrouck\, 59190 Hazebrouck\, France
URL:https://www.fest.fr/e/2433320
UID:2433320-1@fest.fr
END:VEVENT
END:VCALENDAR
