BEGIN:VCALENDAR
CALSCALE:GREGORIAN
VERSION:2.0
METHOD:PUBLISH 
X-WR-CALNAME:
BEGIN:VEVENT
DTSTART;TZID=Europe/Paris:20261025T120000
DTEND;TZID=Europe/Paris:20261025T130000
SUMMARY:DEJEUNER+ SHOW DE DANI LARY 25 OCTOBRE 2026
CATEGORIE:Spectacles et Théâtre
GEO:44.95596600000000;5.14151800000000
LOCATION:20 Grande Rue\, 26300 Barbières\, France
URL:https://www.fest.fr/e/2433302
UID:2433302-1@fest.fr
END:VEVENT
END:VCALENDAR
