BEGIN:VCALENDAR
CALSCALE:GREGORIAN
VERSION:2.0
METHOD:PUBLISH 
X-WR-CALNAME:
BEGIN:VEVENT
DTSTART;TZID=Europe/Paris:20260420T193000
DTEND;TZID=Europe/Paris:20260420T203000
SUMMARY:Cinéclub de Cellofan' : Colère !
CATEGORIE:Spectacles et Théâtre
GEO:50.62366300000000;3.07432000000000
LOCATION:Cinéma L'Univers\, 16 rue Georges Danton\, 59024 Lille\, France
URL:https://www.fest.fr/e/2433232
UID:2433232-1@fest.fr
END:VEVENT
END:VCALENDAR
