BEGIN:VCALENDAR
CALSCALE:GREGORIAN
VERSION:2.0
METHOD:PUBLISH 
X-WR-CALNAME:
BEGIN:VEVENT
DTSTART;TZID=Europe/Paris:20260627T100000
DTEND;TZID=Europe/Paris:20260627T110000
SUMMARY:Visite guidée du moulin hydraulique
CATEGORIE:Expositions, Visites et Découvertes
GEO:47.66371200000000;0.31325300000000
LOCATION:Moulin de Rotrou\, la chalopiniere vaas\, 72500 Vaas\, France
URL:https://www.fest.fr/e/2433183
UID:2433183-1@fest.fr
END:VEVENT
BEGIN:VEVENT
DTSTART;TZID=Europe/Paris:20260627T150000
DTEND;TZID=Europe/Paris:20260627T160000
SUMMARY:Visite guidée du moulin hydraulique
CATEGORIE:Expositions, Visites et Découvertes
GEO:47.66371200000000;0.31325300000000
LOCATION:Moulin de Rotrou\, la chalopiniere vaas\, 72500 Vaas\, France
URL:https://www.fest.fr/e/2433183
UID:2433183-2@fest.fr
END:VEVENT
END:VCALENDAR
