BEGIN:VCALENDAR
CALSCALE:GREGORIAN
VERSION:2.0
METHOD:PUBLISH 
X-WR-CALNAME:
BEGIN:VEVENT
DTSTART;TZID=Europe/Paris:20260606T140000
DTEND;TZID=Europe/Paris:20260606T150000
SUMMARY:Une occasion unique de vous immerger dans un Jardin Remarquable, chargé d’histoi
CATEGORIE:Expositions, Visites et Découvertes
GEO:43.50108100000000;3.03044000000000
LOCATION:Jardin Méditerranéen de Roquebrun CADE\, Place de l'Église\, 34460 Roquebrun\, France
URL:https://www.fest.fr/e/2433142
UID:2433142-1@fest.fr
END:VEVENT
BEGIN:VEVENT
DTSTART;TZID=Europe/Paris:20260607T140000
DTEND;TZID=Europe/Paris:20260607T150000
SUMMARY:Une occasion unique de vous immerger dans un Jardin Remarquable, chargé d’histoi
CATEGORIE:Expositions, Visites et Découvertes
GEO:43.50108100000000;3.03044000000000
LOCATION:Jardin Méditerranéen de Roquebrun CADE\, Place de l'Église\, 34460 Roquebrun\, France
URL:https://www.fest.fr/e/2433142
UID:2433142-2@fest.fr
END:VEVENT
END:VCALENDAR
