BEGIN:VCALENDAR
CALSCALE:GREGORIAN
VERSION:2.0
METHOD:PUBLISH 
X-WR-CALNAME:
BEGIN:VEVENT
DTSTART;TZID=Europe/Paris:20260627T103000
DTEND;TZID=Europe/Paris:20260627T113000
SUMMARY:Visites guidées du moulin
CATEGORIE:Expositions, Visites et Découvertes
GEO:46.42116000000000;-0.68333200000000
LOCATION:Maison de la Meunerie\, 16, rue du Moulin \, 85240 Rives-d'Autise\, France
URL:https://www.fest.fr/e/2433103
UID:2433103-1@fest.fr
END:VEVENT
BEGIN:VEVENT
DTSTART;TZID=Europe/Paris:20260627T140000
DTEND;TZID=Europe/Paris:20260627T150000
SUMMARY:Visites guidées du moulin
CATEGORIE:Expositions, Visites et Découvertes
GEO:46.42116000000000;-0.68333200000000
LOCATION:Maison de la Meunerie\, 16, rue du Moulin \, 85240 Rives-d'Autise\, France
URL:https://www.fest.fr/e/2433103
UID:2433103-2@fest.fr
END:VEVENT
BEGIN:VEVENT
DTSTART;TZID=Europe/Paris:20260628T103000
DTEND;TZID=Europe/Paris:20260628T113000
SUMMARY:Visites guidées du moulin
CATEGORIE:Expositions, Visites et Découvertes
GEO:46.42116000000000;-0.68333200000000
LOCATION:Maison de la Meunerie\, 16, rue du Moulin \, 85240 Rives-d'Autise\, France
URL:https://www.fest.fr/e/2433103
UID:2433103-3@fest.fr
END:VEVENT
BEGIN:VEVENT
DTSTART;TZID=Europe/Paris:20260628T140000
DTEND;TZID=Europe/Paris:20260628T150000
SUMMARY:Visites guidées du moulin
CATEGORIE:Expositions, Visites et Découvertes
GEO:46.42116000000000;-0.68333200000000
LOCATION:Maison de la Meunerie\, 16, rue du Moulin \, 85240 Rives-d'Autise\, France
URL:https://www.fest.fr/e/2433103
UID:2433103-4@fest.fr
END:VEVENT
END:VCALENDAR
