BEGIN:VCALENDAR
CALSCALE:GREGORIAN
VERSION:2.0
METHOD:PUBLISH 
X-WR-CALNAME:
BEGIN:VEVENT
DTSTART;TZID=Europe/Paris:20260516T210000
DTEND;TZID=Europe/Paris:20260516T220000
SUMMARY:SPICY BOX
CATEGORIE:Concerts et musique
GEO:47.28969540000000;-2.26149140000000
LOCATION:Boulevard de la Legion d'honneur\, 44600 Saint-Nazaire\, France
URL:https://www.fest.fr/e/2433076
UID:2433076-1@fest.fr
END:VEVENT
END:VCALENDAR
