BEGIN:VCALENDAR
CALSCALE:GREGORIAN
VERSION:2.0
METHOD:PUBLISH 
X-WR-CALNAME:
BEGIN:VEVENT
DTSTART;TZID=Europe/Paris:20260606T090000
DTEND;TZID=Europe/Paris:20260606T100000
SUMMARY:Le Rallye de la Gastronomie - Brasserie du Val de Drôme
CATEGORIE:Expositions, Visites et Découvertes
GEO:44.60779100000000;4.92481300000000
LOCATION:Brasserie du Val de Drôme\, 10 rue des Artisans\, 26450 Cléon-d'Andran\, France
URL:https://www.fest.fr/e/2433006
UID:2433006-1@fest.fr
END:VEVENT
END:VCALENDAR
