BEGIN:VCALENDAR
CALSCALE:GREGORIAN
VERSION:2.0
METHOD:PUBLISH 
X-WR-CALNAME:
BEGIN:VEVENT
DTSTART;TZID=Europe/Paris:20260425T100000
DTEND;TZID=Europe/Paris:20260425T110000
SUMMARY:Médiathèque Le Dôme : Rendez-vous dans les livres
CATEGORIE:Stages, Ateliers et Initiations
GEO:46.38659000000000;5.86484000000000
LOCATION:5 Place de l'Abbaye
Médiathèque\, 39200 Saint-Claude\, France
URL:https://www.fest.fr/e/2432837
UID:2432837-1@fest.fr
END:VEVENT
END:VCALENDAR
