BEGIN:VCALENDAR
CALSCALE:GREGORIAN
VERSION:2.0
METHOD:PUBLISH 
X-WR-CALNAME:
BEGIN:VEVENT
DTSTART;TZID=Europe/Paris:20260507T193000
DTEND;TZID=Europe/Paris:20260507T203000
SUMMARY:Jeudi Rôle - Dungeon World - Monsieur Bidule
CATEGORIE:Jeux et Concours
GEO:47.02359660000000;4.83953746000000
LOCATION:10 Place Ziem
Monsieur Bidule\, 21200 Beaune\, France
URL:https://www.fest.fr/e/2432741
UID:2432741-1@fest.fr
END:VEVENT
END:VCALENDAR
