BEGIN:VCALENDAR
CALSCALE:GREGORIAN
VERSION:2.0
METHOD:PUBLISH 
X-WR-CALNAME:
BEGIN:VEVENT
DTSTART;TZID=Europe/Paris:20260626T090000
DTEND;TZID=Europe/Paris:20260626T100000
SUMMARY:Tours et détours aux remparts
CATEGORIE:Expositions, Visites et Découvertes
GEO:46.11945700000000;4.95667800000000
LOCATION:Hôtel Dieu\,  châtillon-sur-chalaronne\, 01400 Châtillon-sur-Chalaronne\, France
URL:https://www.fest.fr/e/2432705
UID:2432705-1@fest.fr
END:VEVENT
BEGIN:VEVENT
DTSTART;TZID=Europe/Paris:20260626T140000
DTEND;TZID=Europe/Paris:20260626T150000
SUMMARY:Tours et détours aux remparts
CATEGORIE:Expositions, Visites et Découvertes
GEO:46.11945700000000;4.95667800000000
LOCATION:Hôtel Dieu\,  châtillon-sur-chalaronne\, 01400 Châtillon-sur-Chalaronne\, France
URL:https://www.fest.fr/e/2432705
UID:2432705-2@fest.fr
END:VEVENT
BEGIN:VEVENT
DTSTART;TZID=Europe/Paris:20260627T090000
DTEND;TZID=Europe/Paris:20260627T100000
SUMMARY:Tours et détours aux remparts
CATEGORIE:Expositions, Visites et Découvertes
GEO:46.11945700000000;4.95667800000000
LOCATION:Hôtel Dieu\,  châtillon-sur-chalaronne\, 01400 Châtillon-sur-Chalaronne\, France
URL:https://www.fest.fr/e/2432705
UID:2432705-3@fest.fr
END:VEVENT
BEGIN:VEVENT
DTSTART;TZID=Europe/Paris:20260627T140000
DTEND;TZID=Europe/Paris:20260627T150000
SUMMARY:Tours et détours aux remparts
CATEGORIE:Expositions, Visites et Découvertes
GEO:46.11945700000000;4.95667800000000
LOCATION:Hôtel Dieu\,  châtillon-sur-chalaronne\, 01400 Châtillon-sur-Chalaronne\, France
URL:https://www.fest.fr/e/2432705
UID:2432705-4@fest.fr
END:VEVENT
END:VCALENDAR
