BEGIN:VCALENDAR
CALSCALE:GREGORIAN
VERSION:2.0
METHOD:PUBLISH 
X-WR-CALNAME:
BEGIN:VEVENT
DTSTART;TZID=Europe/Paris:20260529T180000
DTEND;TZID=Europe/Paris:20260529T190000
SUMMARY:Exposition "La gravure : illustrer, reproduire, créer"
CATEGORIE:Expositions, Visites et Découvertes
GEO:47.35902000000000;3.38868000000000
LOCATION:22 Rue de l'Hôtel de Ville
Musée Auguste Grasset\, 58210 Varzy\, France
URL:https://www.fest.fr/e/2432699
UID:2432699-1@fest.fr
END:VEVENT
BEGIN:VEVENT
DTSTART;TZID=Europe/Paris:20260530T133000
DTEND;TZID=Europe/Paris:20260530T143000
SUMMARY:Exposition "La gravure : illustrer, reproduire, créer"
CATEGORIE:Expositions, Visites et Découvertes
GEO:47.35902000000000;3.38868000000000
LOCATION:22 Rue de l'Hôtel de Ville
Musée Auguste Grasset\, 58210 Varzy\, France
URL:https://www.fest.fr/e/2432699
UID:2432699-2@fest.fr
END:VEVENT
END:VCALENDAR
