BEGIN:VCALENDAR
CALSCALE:GREGORIAN
VERSION:2.0
METHOD:PUBLISH 
X-WR-CALNAME:
BEGIN:VEVENT
DTSTART;TZID=Europe/Paris:20260612T200000
DTEND;TZID=Europe/Paris:20260612T210000
SUMMARY:Animations à la Médiathèque de Saint Eloi
CATEGORIE:Fêtes et Animations
GEO:46.98086000000000;3.22164000000000
LOCATION:Chemin du Bois Bouchot
Médiathèque\, 58000 Saint-Éloi\, France
URL:https://www.fest.fr/e/2432680
UID:2432680-1@fest.fr
END:VEVENT
END:VCALENDAR
