BEGIN:VCALENDAR
CALSCALE:GREGORIAN
VERSION:2.0
METHOD:PUBLISH 
X-WR-CALNAME:
BEGIN:VEVENT
DTSTART;TZID=Europe/Paris:20260418T093000
DTEND;TZID=Europe/Paris:20260418T103000
SUMMARY:Destination Tanzanie
CATEGORIE:Expositions, Visites et Découvertes
GEO:47.57758980000000;3.12201807000000
LOCATION:Parc Animalier de Boutissaint\, 89520 Treigny-Perreuse-Sainte-Colombe\, France
URL:https://www.fest.fr/e/2432650
UID:2432650-1@fest.fr
END:VEVENT
END:VCALENDAR
