BEGIN:VCALENDAR
CALSCALE:GREGORIAN
VERSION:2.0
METHOD:PUBLISH 
X-WR-CALNAME:
BEGIN:VEVENT
DTSTART;TZID=Europe/Paris:20260603T190000
DTEND;TZID=Europe/Paris:20260603T200000
SUMMARY:Vies-à-vies, le film
CATEGORIE:Spectacles et Théâtre
GEO:47.33832000000000;4.99639000000000
LOCATION:1 Allée Célestin Freinet\, 21240 Talant\, France
URL:https://www.fest.fr/e/2432621
UID:2432621-1@fest.fr
END:VEVENT
END:VCALENDAR
