BEGIN:VCALENDAR
CALSCALE:GREGORIAN
VERSION:2.0
METHOD:PUBLISH 
X-WR-CALNAME:
BEGIN:VEVENT
DTSTART;TZID=Europe/Paris:20260920T100000
DTEND;TZID=Europe/Paris:20260920T110000
SUMMARY:Journées Européennes du Patrimoine
CATEGORIE:Expositions, Visites et Découvertes
GEO:46.78829000000000;3.12047000000000
LOCATION:1 Route de Moulins
Site du moulin Les Eventées\, 58240 Saint-Pierre-le-Moûtier\, France
URL:https://www.fest.fr/e/2432576
UID:2432576-1@fest.fr
END:VEVENT
END:VCALENDAR
