BEGIN:VCALENDAR
CALSCALE:GREGORIAN
VERSION:2.0
METHOD:PUBLISH 
X-WR-CALNAME:
BEGIN:VEVENT
DTSTART;TZID=Europe/Paris:20261212T090000
DTEND;TZID=Europe/Paris:20261212T100000
SUMMARY:Les oiseaux au fil des saisons
CATEGORIE:Expositions, Visites et Découvertes
GEO:47.06369720000000;5.48325690000000
LOCATION:Réserve naturelle nationale de l'Île du Girard
Route sans nom\, 39100 Gevry\, France
URL:https://www.fest.fr/e/2432385
UID:2432385-1@fest.fr
END:VEVENT
END:VCALENDAR
