BEGIN:VCALENDAR
CALSCALE:GREGORIAN
VERSION:2.0
METHOD:PUBLISH 
X-WR-CALNAME:
BEGIN:VEVENT
DTSTART;TZID=Europe/Paris:20260514T100000
DTEND;TZID=Europe/Paris:20260514T110000
SUMMARY:BOURSE COLLECTION A CHÂTILLON EN BAZOIS
CATEGORIE:Brocantes, Bourses et Vide-Greniers
GEO:47.05297000000000;3.65361000000000
LOCATION:Place Pierre Saury\, 58110 Châtillon-en-Bazois\, France
URL:https://www.fest.fr/e/2432299
UID:2432299-1@fest.fr
END:VEVENT
END:VCALENDAR
