BEGIN:VCALENDAR
CALSCALE:GREGORIAN
VERSION:2.0
METHOD:PUBLISH 
X-WR-CALNAME:
BEGIN:VEVENT
DTSTART;TZID=Europe/Paris:20260926T203000
DTEND;TZID=Europe/Paris:20260926T213000
SUMMARY:Soirée Théâtre
CATEGORIE:Spectacles et Théâtre
GEO:47.02606000000000;4.12201000000000
LOCATION:Rue de la Tannerie
Salle des Fêtes de Roussillon en Morvan\, 71550 Cussy-en-Morvan\, France
URL:https://www.fest.fr/e/2432227
UID:2432227-1@fest.fr
END:VEVENT
END:VCALENDAR
