BEGIN:VCALENDAR
CALSCALE:GREGORIAN
VERSION:2.0
METHOD:PUBLISH 
X-WR-CALNAME:
BEGIN:VEVENT
DTSTART;TZID=Europe/Paris:20260829T200000
DTEND;TZID=Europe/Paris:20260829T210000
SUMMARY:La cabane sur le chien
CATEGORIE:Concerts et Musique
GEO:47.06369720000000;5.48325690000000
LOCATION:Avenue de Lahr
Péniche Spera\, 39100 Dole\, France
URL:https://www.fest.fr/e/2432150
UID:2432150-1@fest.fr
END:VEVENT
END:VCALENDAR
