BEGIN:VCALENDAR
CALSCALE:GREGORIAN
VERSION:2.0
METHOD:PUBLISH 
X-WR-CALNAME:
BEGIN:VEVENT
DTSTART;TZID=Europe/Paris:20260508T123456
DTEND;TZID=Europe/Paris:20260508T133456
SUMMARY:Stages et séjours : bien-être et smoothies
CATEGORIE:Stages, Ateliers et Initiations
GEO:46.59718190000000;6.11295800000000
LOCATION:Bâtiment 4 saisons\, 25240 Chapelle-des-Bois\, France
URL:https://www.fest.fr/e/2432080
UID:2432080-1@fest.fr
END:VEVENT
BEGIN:VEVENT
DTSTART;TZID=Europe/Paris:20260606T123456
DTEND;TZID=Europe/Paris:20260606T133456
SUMMARY:Stages et séjours : bien-être et smoothies
CATEGORIE:Stages, Ateliers et Initiations
GEO:46.59718190000000;6.11295800000000
LOCATION:Bâtiment 4 saisons\, 25240 Chapelle-des-Bois\, France
URL:https://www.fest.fr/e/2432080
UID:2432080-2@fest.fr
END:VEVENT
END:VCALENDAR
