BEGIN:VCALENDAR
CALSCALE:GREGORIAN
VERSION:2.0
METHOD:PUBLISH 
X-WR-CALNAME:
BEGIN:VEVENT
DTSTART;TZID=Europe/Paris:20260627T143000
DTEND;TZID=Europe/Paris:20260627T153000
SUMMARY:Kermesse de l'école
CATEGORIE:Fêtes et Animations
GEO:46.98813700000000;3.80942200000000
LOCATION:Avenue Perricaudet
Salle Polyvalente\, 58290 Moulins-Engilbert\, France
URL:https://www.fest.fr/e/2432058
UID:2432058-1@fest.fr
END:VEVENT
END:VCALENDAR
