BEGIN:VCALENDAR
CALSCALE:GREGORIAN
VERSION:2.0
METHOD:PUBLISH 
X-WR-CALNAME:
BEGIN:VEVENT
DTSTART;TZID=Europe/Paris:20260822T080000
DTEND;TZID=Europe/Paris:20260822T090000
SUMMARY:Comice agricole 2026
CATEGORIE:Marchés, Foires et Salons
GEO:47.35873500000000;3.38803600000000
LOCATION:Dans le bourg
Place des Grandes Promenades\, 58210 Varzy\, France
URL:https://www.fest.fr/e/2432021
UID:2432021-1@fest.fr
END:VEVENT
END:VCALENDAR
