BEGIN:VCALENDAR
CALSCALE:GREGORIAN
VERSION:2.0
METHOD:PUBLISH 
X-WR-CALNAME:
BEGIN:VEVENT
DTSTART;TZID=Europe/Paris:20260713T203000
DTEND;TZID=Europe/Paris:20260713T213000
SUMMARY:Danse "Au Masculin"
CATEGORIE:Spectacles et Théâtre
GEO:46.82865510000000;3.46209450000000
LOCATION:Levée de Loire\, 58300 Decize\, France
URL:https://www.fest.fr/e/2431994
UID:2431994-1@fest.fr
END:VEVENT
END:VCALENDAR
