BEGIN:VCALENDAR
CALSCALE:GREGORIAN
VERSION:2.0
METHOD:PUBLISH 
X-WR-CALNAME:
BEGIN:VEVENT
DTSTART;TZID=Europe/Paris:20260617T143000
DTEND;TZID=Europe/Paris:20260617T153000
SUMMARY:Chevalier Gaspard et l’aventure fantastique
CATEGORIE:Spectacles et Théâtre
GEO:43.28800700000000;5.39444400000000
LOCATION:69 rue Sainte-Cécile
Divadlo Théâtre\, 13005 Marseille 5e\, France
URL:https://www.fest.fr/e/2431823
UID:2431823-1@fest.fr
END:VEVENT
BEGIN:VEVENT
DTSTART;TZID=Europe/Paris:20260624T143000
DTEND;TZID=Europe/Paris:20260624T153000
SUMMARY:Chevalier Gaspard et l’aventure fantastique
CATEGORIE:Spectacles et Théâtre
GEO:43.28800700000000;5.39444400000000
LOCATION:69 rue Sainte-Cécile
Divadlo Théâtre\, 13005 Marseille 5e\, France
URL:https://www.fest.fr/e/2431823
UID:2431823-2@fest.fr
END:VEVENT
END:VCALENDAR
