BEGIN:VCALENDAR
CALSCALE:GREGORIAN
VERSION:2.0
METHOD:PUBLISH 
X-WR-CALNAME:
BEGIN:VEVENT
DTSTART;TZID=Europe/Paris:20260518T103000
DTEND;TZID=Europe/Paris:20260518T113000
SUMMARY:Exposition : Laurence Gasior
CATEGORIE:Expositions, Visites et Découvertes
GEO:43.52996300000000;5.44979900000000
LOCATION:1 bis rue Matheron
Galerie Azimut\, 13100 Aix-en-Provence\, France
URL:https://www.fest.fr/e/2431819
UID:2431819-1@fest.fr
END:VEVENT
END:VCALENDAR
