BEGIN:VCALENDAR
CALSCALE:GREGORIAN
VERSION:2.0
METHOD:PUBLISH 
X-WR-CALNAME:
BEGIN:VEVENT
DTSTART;TZID=Europe/Paris:20260411T183000
DTEND;TZID=Europe/Paris:20260411T193000
SUMMARY:Nicolas Offenstadt invité des Rencontres de la MMSH
CATEGORIE:Conférences, Forums et Débats
GEO:43.29249600000000;5.37320600000000
LOCATION:25 Cr Honoré d'Estienne d'Orves
Librairie Les Arcenaulx\, 13001 Marseille 1er\, France
URL:https://www.fest.fr/e/2431811
UID:2431811-1@fest.fr
END:VEVENT
END:VCALENDAR
