BEGIN:VCALENDAR
CALSCALE:GREGORIAN
VERSION:2.0
METHOD:PUBLISH 
X-WR-CALNAME:
BEGIN:VEVENT
DTSTART;TZID=Europe/Paris:20260523T123456
DTEND;TZID=Europe/Paris:20260523T133456
SUMMARY:Visite guidée de "La Propriété Luc"
CATEGORIE:Expositions, Visites et Découvertes
GEO:43.37055500000000;5.53698800000000
LOCATION:Domaine de Pichauris\, 13190 Allauch\, France
URL:https://www.fest.fr/e/2431808
UID:2431808-1@fest.fr
END:VEVENT
END:VCALENDAR
