BEGIN:VCALENDAR
CALSCALE:GREGORIAN
VERSION:2.0
METHOD:PUBLISH 
X-WR-CALNAME:
BEGIN:VEVENT
DTSTART;TZID=Europe/Paris:20260418T100000
DTEND;TZID=Europe/Paris:20260418T110000
SUMMARY:ATELIER DE CONVERSATION EN CATALAN "L'ESMORZAR"
CATEGORIE:Stages, Ateliers et Initiations
GEO:42.72761900000000;3.01638860000000
LOCATION:2 Rue de la Paix
Médiathèque\, 66470 Sainte-Marie-la-Mer\, France
URL:https://www.fest.fr/e/2431754
UID:2431754-1@fest.fr
END:VEVENT
END:VCALENDAR
