BEGIN:VCALENDAR
CALSCALE:GREGORIAN
VERSION:2.0
METHOD:PUBLISH 
X-WR-CALNAME:
BEGIN:VEVENT
DTSTART;TZID=Europe/Paris:20260912T180000
DTEND;TZID=Europe/Paris:20260912T190000
SUMMARY:Repas dans un cadre historique
CATEGORIE:Fêtes et Animations
GEO:48.89292516906650;7.99033842149242
LOCATION:D28 Rte de Seltz\, 67690 Hatten\, France
URL:https://www.fest.fr/e/2431737
UID:2431737-1@fest.fr
END:VEVENT
END:VCALENDAR
