BEGIN:VCALENDAR
CALSCALE:GREGORIAN
VERSION:2.0
METHOD:PUBLISH 
X-WR-CALNAME:
BEGIN:VEVENT
DTSTART;TZID=Europe/Paris:20260411T093000
DTEND;TZID=Europe/Paris:20260411T103000
SUMMARY:Repair'café de printemps
CATEGORIE:Social et solidaire
GEO:47.49150580000000;7.32117490000000
LOCATION:3a route de Lucelle\, 68480 Ferrette\, France
URL:https://www.fest.fr/e/2431694
UID:2431694-1@fest.fr
END:VEVENT
END:VCALENDAR
