BEGIN:VCALENDAR
CALSCALE:GREGORIAN
VERSION:2.0
METHOD:PUBLISH 
X-WR-CALNAME:
BEGIN:VEVENT
DTSTART;TZID=Europe/Paris:20260707T150000
DTEND;TZID=Europe/Paris:20260707T160000
SUMMARY:Traîte et Goûter à la ferme
CATEGORIE:Expositions, Visites et Découvertes
GEO:46.35554310000000;-0.66707090000000
LOCATION:Ferme Pédagogique du Marais Poitevin
Sainte Christine\, 85490 Benet\, France
URL:https://www.fest.fr/e/2431626
UID:2431626-1@fest.fr
END:VEVENT
BEGIN:VEVENT
DTSTART;TZID=Europe/Paris:20260714T150000
DTEND;TZID=Europe/Paris:20260714T160000
SUMMARY:Traîte et Goûter à la ferme
CATEGORIE:Expositions, Visites et Découvertes
GEO:46.35554310000000;-0.66707090000000
LOCATION:Ferme Pédagogique du Marais Poitevin
Sainte Christine\, 85490 Benet\, France
URL:https://www.fest.fr/e/2431626
UID:2431626-2@fest.fr
END:VEVENT
BEGIN:VEVENT
DTSTART;TZID=Europe/Paris:20260721T150000
DTEND;TZID=Europe/Paris:20260721T160000
SUMMARY:Traîte et Goûter à la ferme
CATEGORIE:Expositions, Visites et Découvertes
GEO:46.35554310000000;-0.66707090000000
LOCATION:Ferme Pédagogique du Marais Poitevin
Sainte Christine\, 85490 Benet\, France
URL:https://www.fest.fr/e/2431626
UID:2431626-3@fest.fr
END:VEVENT
BEGIN:VEVENT
DTSTART;TZID=Europe/Paris:20260728T150000
DTEND;TZID=Europe/Paris:20260728T160000
SUMMARY:Traîte et Goûter à la ferme
CATEGORIE:Expositions, Visites et Découvertes
GEO:46.35554310000000;-0.66707090000000
LOCATION:Ferme Pédagogique du Marais Poitevin
Sainte Christine\, 85490 Benet\, France
URL:https://www.fest.fr/e/2431626
UID:2431626-4@fest.fr
END:VEVENT
BEGIN:VEVENT
DTSTART;TZID=Europe/Paris:20260804T150000
DTEND;TZID=Europe/Paris:20260804T160000
SUMMARY:Traîte et Goûter à la ferme
CATEGORIE:Expositions, Visites et Découvertes
GEO:46.35554310000000;-0.66707090000000
LOCATION:Ferme Pédagogique du Marais Poitevin
Sainte Christine\, 85490 Benet\, France
URL:https://www.fest.fr/e/2431626
UID:2431626-5@fest.fr
END:VEVENT
BEGIN:VEVENT
DTSTART;TZID=Europe/Paris:20260811T150000
DTEND;TZID=Europe/Paris:20260811T160000
SUMMARY:Traîte et Goûter à la ferme
CATEGORIE:Expositions, Visites et Découvertes
GEO:46.35554310000000;-0.66707090000000
LOCATION:Ferme Pédagogique du Marais Poitevin
Sainte Christine\, 85490 Benet\, France
URL:https://www.fest.fr/e/2431626
UID:2431626-6@fest.fr
END:VEVENT
BEGIN:VEVENT
DTSTART;TZID=Europe/Paris:20260818T150000
DTEND;TZID=Europe/Paris:20260818T160000
SUMMARY:Traîte et Goûter à la ferme
CATEGORIE:Expositions, Visites et Découvertes
GEO:46.35554310000000;-0.66707090000000
LOCATION:Ferme Pédagogique du Marais Poitevin
Sainte Christine\, 85490 Benet\, France
URL:https://www.fest.fr/e/2431626
UID:2431626-7@fest.fr
END:VEVENT
BEGIN:VEVENT
DTSTART;TZID=Europe/Paris:20260825T150000
DTEND;TZID=Europe/Paris:20260825T160000
SUMMARY:Traîte et Goûter à la ferme
CATEGORIE:Expositions, Visites et Découvertes
GEO:46.35554310000000;-0.66707090000000
LOCATION:Ferme Pédagogique du Marais Poitevin
Sainte Christine\, 85490 Benet\, France
URL:https://www.fest.fr/e/2431626
UID:2431626-8@fest.fr
END:VEVENT
END:VCALENDAR
