BEGIN:VCALENDAR
CALSCALE:GREGORIAN
VERSION:2.0
METHOD:PUBLISH 
X-WR-CALNAME:
BEGIN:VEVENT
DTSTART;TZID=Europe/Paris:20260617T103000
DTEND;TZID=Europe/Paris:20260617T113000
SUMMARY:Atelier créatif pour les 3-5 ans
CATEGORIE:Stages, Ateliers et Initiations
GEO:47.11828000000000;-1.93978000000000
LOCATION:5 rue des Écoliers
Arthon-en-Retz
Bibliothèque L'Aqueduc\, 44320 Chaumes-en-Retz\, France
URL:https://www.fest.fr/e/2431615
UID:2431615-1@fest.fr
END:VEVENT
END:VCALENDAR
