BEGIN:VCALENDAR
CALSCALE:GREGORIAN
VERSION:2.0
METHOD:PUBLISH 
X-WR-CALNAME:
BEGIN:VEVENT
DTSTART;TZID=Europe/Paris:20260718T140000
DTEND;TZID=Europe/Paris:20260718T150000
SUMMARY:Découverte de l'orgue - porte ouverte
CATEGORIE:Expositions, Visites et Découvertes
GEO:47.08099000000000;-2.03594000000000
LOCATION:Eglise\, 44760 La Bernerie-en-Retz\, France
URL:https://www.fest.fr/e/2431534
UID:2431534-1@fest.fr
END:VEVENT
BEGIN:VEVENT
DTSTART;TZID=Europe/Paris:20260808T103000
DTEND;TZID=Europe/Paris:20260808T113000
SUMMARY:Découverte de l'orgue - porte ouverte
CATEGORIE:Expositions, Visites et Découvertes
GEO:47.08099000000000;-2.03594000000000
LOCATION:Eglise\, 44760 La Bernerie-en-Retz\, France
URL:https://www.fest.fr/e/2431534
UID:2431534-2@fest.fr
END:VEVENT
END:VCALENDAR
