BEGIN:VCALENDAR
CALSCALE:GREGORIAN
VERSION:2.0
METHOD:PUBLISH 
X-WR-CALNAME:
BEGIN:VEVENT
DTSTART;TZID=Europe/Paris:20260415T140000
DTEND;TZID=Europe/Paris:20260415T150000
SUMMARY:RDV nature en Anjou "Découverte de la faune"
CATEGORIE:Expositions, Visites et Découvertes
GEO:47.25926880000000;-0.83551300000000
LOCATION:La Morosière
Neuvy-en-Mauges\, 49750 Chemillé-en-Anjou\, France
URL:https://www.fest.fr/e/2431515
UID:2431515-1@fest.fr
END:VEVENT
END:VCALENDAR
