BEGIN:VCALENDAR
CALSCALE:GREGORIAN
VERSION:2.0
METHOD:PUBLISH 
X-WR-CALNAME:
BEGIN:VEVENT
DTSTART;TZID=Europe/Paris:20260425T100000
DTEND;TZID=Europe/Paris:20260425T110000
SUMMARY:Portes Ouvertes Tonton Bacchus
CATEGORIE:Marchés, Foires et Salons
GEO:47.12997800000000;-0.61040000000000
LOCATION:Lieu-dit Le Rêve\, 49690 Coron\, France
URL:https://www.fest.fr/e/2431491
UID:2431491-1@fest.fr
END:VEVENT
END:VCALENDAR
