BEGIN:VCALENDAR
CALSCALE:GREGORIAN
VERSION:2.0
METHOD:PUBLISH 
X-WR-CALNAME:
BEGIN:VEVENT
DTSTART;TZID=Europe/Paris:20260613T100000
DTEND;TZID=Europe/Paris:20260613T110000
SUMMARY:Journée porte ouverte : Les Rhums Ti Ced
CATEGORIE:Expositions, Visites et Découvertes
GEO:47.13032000000000;-1.82800000000000
LOCATION:PA du Pont Béranger II
Rue Alfred Nobel\, 44680 Saint-Hilaire-de-Chaléons\, France
URL:https://www.fest.fr/e/2431469
UID:2431469-1@fest.fr
END:VEVENT
END:VCALENDAR
