BEGIN:VCALENDAR
CALSCALE:GREGORIAN
VERSION:2.0
METHOD:PUBLISH 
X-WR-CALNAME:
BEGIN:VEVENT
DTSTART;TZID=Europe/Paris:20260416T180000
DTEND;TZID=Europe/Paris:20260416T190000
SUMMARY:Repair Café
CATEGORIE:Stages, Ateliers et Initiations
GEO:47.11404000000000;-1.95404000000000
LOCATION:Arthon en Retz
La Poz
Zone du Butai\, 44320 Chaumes-en-Retz\, France
URL:https://www.fest.fr/e/2431364
UID:2431364-1@fest.fr
END:VEVENT
END:VCALENDAR
