BEGIN:VCALENDAR
CALSCALE:GREGORIAN
VERSION:2.0
METHOD:PUBLISH 
X-WR-CALNAME:
BEGIN:VEVENT
DTSTART;TZID=Europe/Paris:20260417T203000
DTEND;TZID=Europe/Paris:20260417T213000
SUMMARY:SOIRÉE FLOWERS NIGHT
CATEGORIE:Clubbing et soirées DJ
GEO:47.23500000000000;-2.15321000000000
LOCATION:7 Avenue des Frères Lumière\, 44250 Saint-Brevin-les-Pins\, France
URL:https://www.fest.fr/e/2431315
UID:2431315-1@fest.fr
END:VEVENT
END:VCALENDAR
