BEGIN:VCALENDAR
CALSCALE:GREGORIAN
VERSION:2.0
METHOD:PUBLISH 
X-WR-CALNAME:
BEGIN:VEVENT
DTSTART;TZID=Europe/Paris:20260422T153000
DTEND;TZID=Europe/Paris:20260422T163000
SUMMARY:Spectacle enfants Je veux une fée
CATEGORIE:Spectacles et Théâtre
GEO:47.37789000000000;-2.53039000000000
LOCATION:Espace Kerdinio
Route de Mesquer (face au stade)\, 44420 Piriac-sur-Mer\, France
URL:https://www.fest.fr/e/2431272
UID:2431272-1@fest.fr
END:VEVENT
END:VCALENDAR
