BEGIN:VCALENDAR
CALSCALE:GREGORIAN
VERSION:2.0
METHOD:PUBLISH 
X-WR-CALNAME:
BEGIN:VEVENT
DTSTART;TZID=Europe/Paris:20260427T163000
DTEND;TZID=Europe/Paris:20260427T173000
SUMMARY:Atelier éco-responsable : mini terrarium
CATEGORIE:Stages, Ateliers et Initiations
GEO:47.12945000000000;-2.21804000000000
LOCATION:5 place du Marché
Le Centre\, 44770 Préfailles\, France
URL:https://www.fest.fr/e/2431260
UID:2431260-1@fest.fr
END:VEVENT
BEGIN:VEVENT
DTSTART;TZID=Europe/Paris:20260714T163000
DTEND;TZID=Europe/Paris:20260714T173000
SUMMARY:Atelier éco-responsable : mini terrarium
CATEGORIE:Stages, Ateliers et Initiations
GEO:47.12945000000000;-2.21804000000000
LOCATION:5 place du Marché
Le Centre\, 44770 Préfailles\, France
URL:https://www.fest.fr/e/2431260
UID:2431260-2@fest.fr
END:VEVENT
BEGIN:VEVENT
DTSTART;TZID=Europe/Paris:20260721T163000
DTEND;TZID=Europe/Paris:20260721T173000
SUMMARY:Atelier éco-responsable : mini terrarium
CATEGORIE:Stages, Ateliers et Initiations
GEO:47.12945000000000;-2.21804000000000
LOCATION:5 place du Marché
Le Centre\, 44770 Préfailles\, France
URL:https://www.fest.fr/e/2431260
UID:2431260-3@fest.fr
END:VEVENT
END:VCALENDAR
