BEGIN:VCALENDAR
CALSCALE:GREGORIAN
VERSION:2.0
METHOD:PUBLISH 
X-WR-CALNAME:
BEGIN:VEVENT
DTSTART;TZID=Europe/Paris:20260717T150000
DTEND;TZID=Europe/Paris:20260717T160000
SUMMARY:Portes ouvertes de la saline "Tenue de Mareil"
CATEGORIE:Expositions, Visites et Découvertes
GEO:47.05060000000000;-1.99042000000000
LOCATION:Route de Moraudeau\, 44760 La Bernerie-en-Retz\, France
URL:https://www.fest.fr/e/2431211
UID:2431211-1@fest.fr
END:VEVENT
BEGIN:VEVENT
DTSTART;TZID=Europe/Paris:20260717T173000
DTEND;TZID=Europe/Paris:20260717T183000
SUMMARY:Portes ouvertes de la saline "Tenue de Mareil"
CATEGORIE:Expositions, Visites et Découvertes
GEO:47.05060000000000;-1.99042000000000
LOCATION:Route de Moraudeau\, 44760 La Bernerie-en-Retz\, France
URL:https://www.fest.fr/e/2431211
UID:2431211-2@fest.fr
END:VEVENT
BEGIN:VEVENT
DTSTART;TZID=Europe/Paris:20260814T150000
DTEND;TZID=Europe/Paris:20260814T160000
SUMMARY:Portes ouvertes de la saline "Tenue de Mareil"
CATEGORIE:Expositions, Visites et Découvertes
GEO:47.05060000000000;-1.99042000000000
LOCATION:Route de Moraudeau\, 44760 La Bernerie-en-Retz\, France
URL:https://www.fest.fr/e/2431211
UID:2431211-3@fest.fr
END:VEVENT
BEGIN:VEVENT
DTSTART;TZID=Europe/Paris:20260814T173000
DTEND;TZID=Europe/Paris:20260814T183000
SUMMARY:Portes ouvertes de la saline "Tenue de Mareil"
CATEGORIE:Expositions, Visites et Découvertes
GEO:47.05060000000000;-1.99042000000000
LOCATION:Route de Moraudeau\, 44760 La Bernerie-en-Retz\, France
URL:https://www.fest.fr/e/2431211
UID:2431211-4@fest.fr
END:VEVENT
END:VCALENDAR
