BEGIN:VCALENDAR
CALSCALE:GREGORIAN
VERSION:2.0
METHOD:PUBLISH 
X-WR-CALNAME:
BEGIN:VEVENT
DTSTART;TZID=Europe/Paris:20260410T183000
DTEND;TZID=Europe/Paris:20260410T193000
SUMMARY:St Lyph'air en Nocturne
CATEGORIE:Fêtes et Animations
GEO:47.39568000000000;-2.29982000000000
LOCATION:Salle de la Vinière\, 44410 Saint-Lyphard\, France
URL:https://www.fest.fr/e/2431118
UID:2431118-1@fest.fr
END:VEVENT
END:VCALENDAR
