BEGIN:VCALENDAR
CALSCALE:GREGORIAN
VERSION:2.0
METHOD:PUBLISH 
X-WR-CALNAME:
BEGIN:VEVENT
DTSTART;TZID=Europe/Paris:20260501T190000
DTEND;TZID=Europe/Paris:20260501T200000
SUMMARY:Mystères Alchimiques au Château du Plessis Bourré
CATEGORIE:Spectacles et Théâtre
GEO:47.60088400000000;-0.54435800000000
LOCATION:Château du Plessis-Bourré\, 49460 Écuillé\, France
URL:https://www.fest.fr/e/2431035
UID:2431035-1@fest.fr
END:VEVENT
BEGIN:VEVENT
DTSTART;TZID=Europe/Paris:20260502T190000
DTEND;TZID=Europe/Paris:20260502T200000
SUMMARY:Mystères Alchimiques au Château du Plessis Bourré
CATEGORIE:Spectacles et Théâtre
GEO:47.60088400000000;-0.54435800000000
LOCATION:Château du Plessis-Bourré\, 49460 Écuillé\, France
URL:https://www.fest.fr/e/2431035
UID:2431035-2@fest.fr
END:VEVENT
BEGIN:VEVENT
DTSTART;TZID=Europe/Paris:20260508T190000
DTEND;TZID=Europe/Paris:20260508T200000
SUMMARY:Mystères Alchimiques au Château du Plessis Bourré
CATEGORIE:Spectacles et Théâtre
GEO:47.60088400000000;-0.54435800000000
LOCATION:Château du Plessis-Bourré\, 49460 Écuillé\, France
URL:https://www.fest.fr/e/2431035
UID:2431035-3@fest.fr
END:VEVENT
BEGIN:VEVENT
DTSTART;TZID=Europe/Paris:20260509T190000
DTEND;TZID=Europe/Paris:20260509T200000
SUMMARY:Mystères Alchimiques au Château du Plessis Bourré
CATEGORIE:Spectacles et Théâtre
GEO:47.60088400000000;-0.54435800000000
LOCATION:Château du Plessis-Bourré\, 49460 Écuillé\, France
URL:https://www.fest.fr/e/2431035
UID:2431035-4@fest.fr
END:VEVENT
BEGIN:VEVENT
DTSTART;TZID=Europe/Paris:20260514T190000
DTEND;TZID=Europe/Paris:20260514T200000
SUMMARY:Mystères Alchimiques au Château du Plessis Bourré
CATEGORIE:Spectacles et Théâtre
GEO:47.60088400000000;-0.54435800000000
LOCATION:Château du Plessis-Bourré\, 49460 Écuillé\, France
URL:https://www.fest.fr/e/2431035
UID:2431035-5@fest.fr
END:VEVENT
BEGIN:VEVENT
DTSTART;TZID=Europe/Paris:20260515T190000
DTEND;TZID=Europe/Paris:20260515T200000
SUMMARY:Mystères Alchimiques au Château du Plessis Bourré
CATEGORIE:Spectacles et Théâtre
GEO:47.60088400000000;-0.54435800000000
LOCATION:Château du Plessis-Bourré\, 49460 Écuillé\, France
URL:https://www.fest.fr/e/2431035
UID:2431035-6@fest.fr
END:VEVENT
BEGIN:VEVENT
DTSTART;TZID=Europe/Paris:20260516T190000
DTEND;TZID=Europe/Paris:20260516T200000
SUMMARY:Mystères Alchimiques au Château du Plessis Bourré
CATEGORIE:Spectacles et Théâtre
GEO:47.60088400000000;-0.54435800000000
LOCATION:Château du Plessis-Bourré\, 49460 Écuillé\, France
URL:https://www.fest.fr/e/2431035
UID:2431035-7@fest.fr
END:VEVENT
END:VCALENDAR
