BEGIN:VCALENDAR
CALSCALE:GREGORIAN
VERSION:2.0
METHOD:PUBLISH 
X-WR-CALNAME:
BEGIN:VEVENT
DTSTART;TZID=Europe/Paris:20260523T123456
DTEND;TZID=Europe/Paris:20260523T133456
SUMMARY:Tournois de foot du Marais
CATEGORIE:Sports
GEO:47.20037000000000;-1.87361000000000
LOCATION:Stade de la Pinellerie\, 44640 Vue\, France
URL:https://www.fest.fr/e/2431034
UID:2431034-1@fest.fr
END:VEVENT
END:VCALENDAR
