BEGIN:VCALENDAR
CALSCALE:GREGORIAN
VERSION:2.0
METHOD:PUBLISH 
X-WR-CALNAME:
BEGIN:VEVENT
DTSTART;TZID=Europe/Paris:20260423T103000
DTEND;TZID=Europe/Paris:20260423T113000
SUMMARY:Visite guidée La chasse au dragon
CATEGORIE:Expositions, Visites et Découvertes
GEO:47.32790000000000;-2.42675000000000
LOCATION:1 place du Marché-au-Bois
Départ de l'Office de tourisme\, 44350 Guérande\, France
URL:https://www.fest.fr/e/2431032
UID:2431032-1@fest.fr
END:VEVENT
BEGIN:VEVENT
DTSTART;TZID=Europe/Paris:20260427T103000
DTEND;TZID=Europe/Paris:20260427T113000
SUMMARY:Visite guidée La chasse au dragon
CATEGORIE:Expositions, Visites et Découvertes
GEO:47.32790000000000;-2.42675000000000
LOCATION:1 place du Marché-au-Bois
Départ de l'Office de tourisme\, 44350 Guérande\, France
URL:https://www.fest.fr/e/2431032
UID:2431032-2@fest.fr
END:VEVENT
BEGIN:VEVENT
DTSTART;TZID=Europe/Paris:20260430T103000
DTEND;TZID=Europe/Paris:20260430T113000
SUMMARY:Visite guidée La chasse au dragon
CATEGORIE:Expositions, Visites et Découvertes
GEO:47.32790000000000;-2.42675000000000
LOCATION:1 place du Marché-au-Bois
Départ de l'Office de tourisme\, 44350 Guérande\, France
URL:https://www.fest.fr/e/2431032
UID:2431032-3@fest.fr
END:VEVENT
END:VCALENDAR
